BEGIN:VCALENDAR
VERSION:2.0
PRODID:-// - ECPv5.15.0//NONSGML v1.0//EN
CALSCALE:GREGORIAN
METHOD:PUBLISH
X-ORIGINAL-URL:https://pascalaubutconteur.net
X-WR-CALDESC:Events for 
REFRESH-INTERVAL;VALUE=DURATION:PT1H
X-Robots-Tag:noindex
X-PUBLISHED-TTL:PT1H
BEGIN:VTIMEZONE
TZID:UTC
BEGIN:STANDARD
TZOFFSETFROM:+0000
TZOFFSETTO:+0000
TZNAME:UTC
DTSTART:20220101T000000
END:STANDARD
END:VTIMEZONE
BEGIN:VEVENT
DTSTART;TZID=UTC:20220131T080000
DTEND;TZID=UTC:20220131T170000
DTSTAMP:20260425T155142
CREATED:20220131T185046Z
LAST-MODIFIED:20220131T185046Z
UID:110-1643616000-1643648400@pascalaubutconteur.net
SUMMARY:Livre Coco au Logis
DESCRIPTION:<!– wp:paragraph –>\n<p>Depuis ma publication de mon premier livre Coco au Logis\, j’ai pu participé a un salon de livre a St-Narcisse et d’autres activites de promotions. Du a la situation actuelle\, je n’ai pas encore eu la possibilite de faire mon spectacle du livre mais ceci est en cours pour 2022 !</p>\n<!– /wp:paragraph –> \n<!– wp:paragraph –>\n<p>Pour plus d’informations: https://pascalaubutconteur.net/coco-au-logis-le-livre<br><br>Pour vous le procurer: https://cabinemagique.ecommerce.ionos.com/Livre-Coco-au-Logis-p362165336</p>\n<!– /wp:paragraph –>
URL:https://pascalaubutconteur.net/event/livre-coco-au-logis
END:VEVENT
END:VCALENDAR